BEGIN:VCALENDAR
PRODID:-//kirchenweb.ch gmbh//veranstaltungsausgabe v2.0//DE
VERSION:2.0
METHOD:PUBLISH
BEGIN:VEVENT
DTSTART:20260628T100000Z
DTEND:20260628T140000Z
LOCATION:Kirche Kurzrickenbach\, Bleichestrasse 7
TRANSP:OPAQUE
SEQUENCE:0
UID:27216-veranstaltung@evang-kreuzlingen.ch
DTSTAMP:20260401T134308Z
DESCRIPTION:Kontakt: Pfr. Damian Brot\n\nWeitere Infos:
  https://www.evang-kreuzlingen.ch/veranstaltung/27216
SUMMARY:Workshop mit Seminar Uni Konstanz
PRIORITY:5
X-MICROSOFT-CDO-IMPORTANCE:1
CLASS:PUBLIC
END:VEVENT
END:VCALENDAR
