BEGIN:VCALENDAR
PRODID:-//kirchenweb.ch gmbh//veranstaltungsausgabe v2.0//DE
VERSION:2.0
METHOD:PUBLISH
BEGIN:VEVENT
DTSTART:20260627T080000Z
DTEND:20260627T100000Z
LOCATION:Kirche Kurzrickenbach\, Bleichestrasse 7
TRANSP:OPAQUE
SEQUENCE:0
UID:27215-veranstaltung@evang-kreuzlingen.ch
DTSTAMP:20260401T133413Z
DESCRIPTION:Vortrag von Prof. Dr. Johannes Stückelberger\n\nKontakt: Pfr.
  Damian Brot\n\nWeitere Infos:
  https://www.evang-kreuzlingen.ch/veranstaltung/27215
SUMMARY:Bilder in reformierten Kirchen
PRIORITY:5
X-MICROSOFT-CDO-IMPORTANCE:1
CLASS:PUBLIC
END:VEVENT
END:VCALENDAR
