BEGIN:VCALENDAR
PRODID:-//kirchenweb.ch gmbh//veranstaltungsausgabe v2.0//DE
VERSION:2.0
METHOD:PUBLISH
BEGIN:VEVENT
DTSTART:20260617T140000Z
DTEND:20260617T163000Z
LOCATION:Bleichesaal\, Bleichestrasse 9\, 8280 Kreuzlingen
TRANSP:OPAQUE
SEQUENCE:0
UID:26947-veranstaltung@evang-kreuzlingen.ch
DTSTAMP:20260112T151830Z
DESCRIPTION:Kontakt: Flavia Hüberli\n\nWeitere Infos:
  https://www.evang-kreuzlingen.ch/veranstaltung/26947
SUMMARY:Kleiderbörse im Open Place
PRIORITY:5
X-MICROSOFT-CDO-IMPORTANCE:1
CLASS:PUBLIC
END:VEVENT
END:VCALENDAR
