BEGIN:VCALENDAR
PRODID:-//kirchenweb.ch gmbh//veranstaltungsausgabe v2.0//DE
VERSION:2.0
METHOD:PUBLISH
BEGIN:VEVENT
DTSTART:20260701T100000Z
DTEND:20260701T104500Z
LOCATION:Kirche Kurzrickenbach\, Bleichestrasse 7
TRANSP:OPAQUE
SEQUENCE:0
UID:26503-veranstaltung@evang-kreuzlingen.ch
DTSTAMP:20260113T085405Z
DESCRIPTION:Mittwochs ist Mittagstisch!\nMit unserem Mittagstisch kocht
  das Küchenteam euch jeden Mittwochmittag ein köstliches und gesundes
  Mittagessen. Wir freuen uns auf euch!\n\n\nKontakt: Benjamin Arntzen\n
 \nWeitere Infos: https://www.evang-kreuzlingen.ch/veranstaltung/26503
SUMMARY:Mittagstisch
PRIORITY:5
X-MICROSOFT-CDO-IMPORTANCE:1
CLASS:PUBLIC
END:VEVENT
END:VCALENDAR
