BEGIN:VCALENDAR
PRODID:-//kirchenweb.ch gmbh//veranstaltungsausgabe v2.0//DE
VERSION:2.0
METHOD:PUBLISH
BEGIN:VEVENT
DTSTART:20250420T100000Z
DTEND:20250420T140000Z
LOCATION:Kirche Kurzrickenbach\, Bleichestrasse 7
TRANSP:OPAQUE
SEQUENCE:0
UID:25568-veranstaltung@evang-kreuzlingen.ch
DTSTAMP:20250419T071616Z
DESCRIPTION:Anschliessend festlicher Apertif\n\nSiehe
  https://www.evang-kreuzlingen.ch/bericht/1626\n\nKontakt: Pfr. Damian
  Brot\n\nWeitere Infos:
  https://www.evang-kreuzlingen.ch/veranstaltung/25568
SUMMARY:Ostergottesdienst in der ostkirchlichen Liturgie
PRIORITY:5
X-MICROSOFT-CDO-IMPORTANCE:1
CLASS:PUBLIC
END:VEVENT
END:VCALENDAR
