BEGIN:VCALENDAR
PRODID:-//kirchenweb.ch gmbh//veranstaltungsausgabe v2.0//DE
VERSION:2.0
METHOD:PUBLISH
BEGIN:VEVENT
DTSTART:20251203T110000Z
DTEND:20251203T120000Z
LOCATION:Open Place
TRANSP:OPAQUE
SEQUENCE:0
UID:25511-veranstaltung@evang-kreuzlingen.ch
DTSTAMP:20251128T090711Z
DESCRIPTION:Mittwoch-Zmittag im Open Place: Guät isch's und gmiätlich
  au!\n\nJeden Mittwoch findet in der Kirche Kurzrickenbach  der
  Mittagstisch statt. Mit diesem Angebot habt ihr die Gelegenheit\, ein
  köstliches Mittagessen in geselliger Runde zu geniessen. Da wir wollen\,
  dass jede und jeder am Mittagstisch teilhaben kann\, haben wir uns dazu
  entschlossen\, den Mittagstisch auf Spendenbasis anzubieten. Unsere
  Spendenempfehlung liegt bei 5–10 Franken. Los geht’s um 12 Uhr. Essen
  gibt es\, solang das Angebot reicht. Im Anschluss habt ihr die
  Möglichkeit das Café des Open Place zu besuchen.\n\nDen aktuellen
  Speiseplan findest du auf unseren Social Media Kanälen
  https://www.instagram.com/openplace_kreuzlingen/oder
  https://www.facebook.com/OpenPlace. Gerne informieren wir dich auch
  regelmässig über unseren https://www.open-place.ch/gruppe/openplace:\n
 \nKontakt: Benjamin Arntzen\n\nWeitere Infos:
  https://www.evang-kreuzlingen.ch/veranstaltung/25511
SUMMARY:Mittagstisch im Open Place
PRIORITY:5
X-MICROSOFT-CDO-IMPORTANCE:1
CLASS:PUBLIC
END:VEVENT
END:VCALENDAR
