BEGIN:VCALENDAR
PRODID:-//kirchenweb.ch gmbh//veranstaltungsausgabe v2.0//DE
VERSION:2.0
METHOD:PUBLISH
BEGIN:VEVENT
DTSTART:20250115T150000Z
DTEND:20250115T173000Z
LOCATION:Bleichesaal\, Bleichestrasse 9\, 8280 Kreuzlingen
TRANSP:OPAQUE
SEQUENCE:0
UID:25205-veranstaltung@evang-kreuzlingen.ch
DTSTAMP:20241216T093912Z
DESCRIPTION:Kontakt: Flavia Hüberli\n\nWeitere Infos:
  https://www.evang-kreuzlingen.ch/veranstaltung/25205
SUMMARY:Kleiderbörse im Open Place
PRIORITY:5
X-MICROSOFT-CDO-IMPORTANCE:1
CLASS:PUBLIC
END:VEVENT
END:VCALENDAR
