BEGIN:VCALENDAR
PRODID:-//kirchenweb.ch gmbh//veranstaltungsausgabe v2.0//DE
VERSION:2.0
METHOD:PUBLISH
BEGIN:VEVENT
DTSTART:20250903T080000Z
DTEND:20250903T094500Z
LOCATION:Haus Weisser\, Bleichestrasse 11
TRANSP:OPAQUE
SEQUENCE:0
UID:24716-veranstaltung@evang-kreuzlingen.ch
DTSTAMP:20241205T154328Z
DESCRIPTION:Im Bibelgesprächskreis lesen wir gemeinsam in der Bibel und
  tauschen uns über die Texte und Themen aus. Die Treffen finden
  14-täglich am Mittwoch im Haus Weisser statt. \n\nKontakt: Janet Brot\n
 \nWeitere Infos: https://www.evang-kreuzlingen.ch/veranstaltung/24716
SUMMARY:Bibelgesprächskreis
PRIORITY:5
X-MICROSOFT-CDO-IMPORTANCE:1
CLASS:PUBLIC
END:VEVENT
END:VCALENDAR
