BEGIN:VCALENDAR
PRODID:-//kirchenweb.ch gmbh//veranstaltungsausgabe v2.0//DE
VERSION:2.0
METHOD:PUBLISH
BEGIN:VEVENT
DTSTART:20241211T120000Z
DTEND:20241211T160000Z
LOCATION:Haus Weisser\, Bleichestrasse 11
TRANSP:OPAQUE
SEQUENCE:0
UID:24057-veranstaltung@evang-kreuzlingen.ch
DTSTAMP:20260414T125456Z
DESCRIPTION:Kontakt: Sook-Hee Lee-Meng\n\nWeitere Infos:
  https://www.evang-kreuzlingen.ch/veranstaltung/24057
SUMMARY:Freies Malen
PRIORITY:5
X-MICROSOFT-CDO-IMPORTANCE:1
CLASS:PUBLIC
END:VEVENT
END:VCALENDAR
