BEGIN:VCALENDAR
PRODID:-//kirchenweb.ch gmbh//veranstaltungsausgabe v2.0//DE
VERSION:2.0
METHOD:PUBLISH
BEGIN:VEVENT
DTSTART:20231128T173000Z
DTEND:20231128T190000Z
LOCATION:Kirche Kurzrickenbach\, Bleichestrasse 7
TRANSP:OPAQUE
SEQUENCE:0
UID:22364-veranstaltung@evang-kreuzlingen.ch
DTSTAMP:20231005T151525Z
DESCRIPTION:Kontakt: Brigitte Haldimann\n\nWeitere Infos:
  https://www.evang-kreuzlingen.ch/veranstaltung/22364
SUMMARY:Lobpreisabend
PRIORITY:5
X-MICROSOFT-CDO-IMPORTANCE:1
CLASS:PUBLIC
END:VEVENT
END:VCALENDAR
