BEGIN:VCALENDAR
PRODID:-//kirchenweb.ch gmbh//veranstaltungsausgabe v2.0//DE
VERSION:2.0
METHOD:PUBLISH
BEGIN:VEVENT
DTSTART:20231128T090000Z
DTEND:20231128T100000Z
LOCATION:Sakristei - Bleichestrasse\, 8280 Kreuzlingen
TRANSP:OPAQUE
SEQUENCE:0
UID:22151-veranstaltung@evang-kreuzlingen.ch
DTSTAMP:20230706T095246Z
DESCRIPTION:Mehr Infos unter https://www.open-place.ch/cafe-verwertbar\n
 \nKontakt: Pfr. Damian Brot\n\nWeitere Infos:
  https://www.evang-kreuzlingen.ch/veranstaltung/22151
SUMMARY:verwertBAR
PRIORITY:5
X-MICROSOFT-CDO-IMPORTANCE:1
CLASS:PUBLIC
END:VEVENT
END:VCALENDAR
