BEGIN:VCALENDAR
PRODID:-//kirchenweb.ch gmbh//veranstaltungsausgabe v2.0//DE
VERSION:2.0
METHOD:PUBLISH
BEGIN:VEVENT
DTSTART:20231124T073000Z
DTEND:20231124T080000Z
LOCATION:Kirche Kurzrickenbach - Bleichestrasse 7\, 8280 Kreuzlingen
TRANSP:OPAQUE
SEQUENCE:0
UID:22047-veranstaltung@evang-kreuzlingen.ch
DTSTAMP:20230706T094456Z
DESCRIPTION:Mehr Infos unter https://www.open-place.ch/spirituelles\n
 \nKontakt: Pfr. Damian Brot\n\nWeitere Infos:
  https://www.evang-kreuzlingen.ch/veranstaltung/22047
SUMMARY:Andacht in der Kirche
PRIORITY:5
X-MICROSOFT-CDO-IMPORTANCE:1
CLASS:PUBLIC
END:VEVENT
END:VCALENDAR
