BEGIN:VCALENDAR
PRODID:-//kirchenweb.ch gmbh//veranstaltungsausgabe v2.0//DE
VERSION:2.0
METHOD:PUBLISH
BEGIN:VEVENT
DTSTART:20231129T120000Z
DTEND:20231129T150000Z
LOCATION:Kirche Kurzrickenbach - Bleichestrasse 7\, 8280 Kreuzlingen
TRANSP:OPAQUE
SEQUENCE:0
UID:22023-veranstaltung@evang-kreuzlingen.ch
DTSTAMP:20231025T120856Z
DESCRIPTION:Mehr Infos unter https://www.open-place.ch/cafe-verwertbar\n
 \nKontakt: Flavia Hüberli \n\nWeitere Infos:
  https://www.evang-kreuzlingen.ch/veranstaltung/22023
SUMMARY:Café im Open Place
PRIORITY:5
X-MICROSOFT-CDO-IMPORTANCE:1
CLASS:PUBLIC
END:VEVENT
END:VCALENDAR
