BEGIN:VCALENDAR
PRODID:-//kirchenweb.ch gmbh//veranstaltungsausgabe v2.0//DE
VERSION:2.0
METHOD:PUBLISH
BEGIN:VEVENT
DTSTART:20231129T090000Z
DTEND:20231129T104500Z
LOCATION:Haus Weisser\, Bleichestrasse 11
TRANSP:OPAQUE
SEQUENCE:0
UID:21722-veranstaltung@evang-kreuzlingen.ch
DTSTAMP:20230320T080402Z
DESCRIPTION:Leitung: Janet Brot https://www.open-place.ch/janet.brot\n
 \nWir steigen ein mit Kaffee\, Tee und Gipfeli und besprechen Texte und
  Fragen\, die im Voraus zugestellt werden.\n\nIm Anschluss an den
  Bibelgesprächskreis besteht die Möglichkeit zum Mittagessen im Open
  Place (https://www.open-place.ch/gemeinsamessen)\n\nKontakt: Pfr. Damian
  Brot\n\nWeitere Infos:
  https://www.evang-kreuzlingen.ch/veranstaltung/21722
SUMMARY:Bibelgesprächskreis im Open Place
PRIORITY:5
X-MICROSOFT-CDO-IMPORTANCE:1
CLASS:PUBLIC
END:VEVENT
END:VCALENDAR
