BEGIN:VCALENDAR
PRODID:-//kirchenweb.ch gmbh//veranstaltungsausgabe v2.0//DE
VERSION:2.0
METHOD:PUBLISH
BEGIN:VEVENT
DTSTART:20231124T190000Z
DTEND:20231124T210000Z
LOCATION:Kirche Kurzrickenbach\, Bleichestrasse 7
TRANSP:OPAQUE
SEQUENCE:0
UID:21228-veranstaltung@evang-kreuzlingen.ch
DTSTAMP:20230915T085928Z
DESCRIPTION:Die 68er\nVon Hippies\, Feministinnen\, Drögelern\,
  Friedensaktivistinnen und Bürgerrechtskämpfern\n\nReferat: Dr. phil.
  Eva Büchi\, Kantonsschule Kreuzlingen\n\nKontakt: Renata Egli\n\nWeitere
  Infos: https://www.evang-kreuzlingen.ch/veranstaltung/21228
SUMMARY:Café-Treff Philosophie
PRIORITY:5
X-MICROSOFT-CDO-IMPORTANCE:1
CLASS:PUBLIC
END:VEVENT
END:VCALENDAR
