BEGIN:VCALENDAR
PRODID:-//kirchenweb.ch gmbh//veranstaltungsausgabe v2.0//DE
VERSION:2.0
METHOD:PUBLISH
BEGIN:VEVENT
DTSTART:20221116T130000Z
DTEND:20221116T140000Z
LOCATION:Kirche Kurzrickenbach\, Bleichestrasse 7
TRANSP:OPAQUE
SEQUENCE:0
UID:20625-veranstaltung@evang-kreuzlingen.ch
DTSTAMP:20221014T074336Z
DESCRIPTION:Musiktherapeutin Doro Kräuchi lädt zum gemeinsamen Trommeln
  ein. Es sind werder Vorkenntnisse\, noch eine Anmeldung notwendig. \n
 \nKontakt: Doro Kräuchi\n\nWeitere Infos:
  https://www.evang-kreuzlingen.ch/veranstaltung/20625
SUMMARY:Gemeinsames Trommeln
PRIORITY:5
X-MICROSOFT-CDO-IMPORTANCE:1
CLASS:PUBLIC
END:VEVENT
END:VCALENDAR
