BEGIN:VCALENDAR
PRODID:-//kirchenweb.ch gmbh//veranstaltungsausgabe v2.0//DE
VERSION:2.0
METHOD:PUBLISH
BEGIN:VEVENT
DTSTART:20221116T110000Z
DTEND:20221116T130000Z
LOCATION:Kirche Kurzrickenbach\, Bleichestrasse 7
TRANSP:OPAQUE
SEQUENCE:0
UID:20567-veranstaltung@evang-kreuzlingen.ch
DTSTAMP:20221001T093754Z
DESCRIPTION:Mittwochs ist Mittagstisch!\nMit unserem Mittagstisch kocht
  das Küchenteam euch jeden Mittwochmittag ein köstliches und gesundes
  Mittagessen. Essen gibt es ab 12 Uhr in der Küche des Open Place. 
 \nMitessen könnt ihr ab einer Kollekte von 2\,5 Franken. Wir freuen uns
  sehr über jeden der mehr geben kann. Mit 5 Franken helft ihr uns die
  Kosten zu decken. Mit einer Spende von 10 Franken helft ihr uns\, auch
  aufwändigere Menüs zu kochen. Wir freuen uns auf euch!\n\n\nKontakt:
  Benjamin Arntzen\n\nWeitere Infos:
  https://www.evang-kreuzlingen.ch/veranstaltung/20567
SUMMARY:Mittagstisch
PRIORITY:5
X-MICROSOFT-CDO-IMPORTANCE:1
CLASS:PUBLIC
END:VEVENT
END:VCALENDAR
