BEGIN:VCALENDAR
PRODID:-//kirchenweb.ch gmbh//veranstaltungsausgabe v2.0//DE
VERSION:2.0
METHOD:PUBLISH
BEGIN:VEVENT
DTSTART:20221109T130000Z
DTEND:20221109T160000Z
LOCATION:Haus Weisser\, Bleichestrasse 11
TRANSP:OPAQUE
SEQUENCE:0
UID:20308-veranstaltung@evang-kreuzlingen.ch
DTSTAMP:20220720T065010Z
DESCRIPTION:Weitere Informationen:
  https://www.open-place.ch/kreativnachmittag\n\nKontakt: Pfr. Damian Brot
 \n\nWeitere Infos: https://www.evang-kreuzlingen.ch/veranstaltung/20308
SUMMARY:Zämä kreativ si
PRIORITY:5
X-MICROSOFT-CDO-IMPORTANCE:1
CLASS:PUBLIC
END:VEVENT
END:VCALENDAR
