BEGIN:VCALENDAR
PRODID:-//kirchenweb.ch gmbh//veranstaltungsausgabe v2.0//DE
VERSION:2.0
METHOD:PUBLISH
BEGIN:VEVENT
DTSTART:20221115T080000Z
DTEND:20221115T103000Z
LOCATION:Bleichesaal - Bleichestrasse 9\, 8280 Kreuzlingen
TRANSP:OPAQUE
SEQUENCE:0
UID:20216-veranstaltung@evang-kreuzlingen.ch
DTSTAMP:20220720T064722Z
DESCRIPTION:Mehr Infos unter
  https://www.open-place.ch/kleiderboerse-open-place\n\nKontakt: Pfr.
  Damian Brot\n\nWeitere Infos:
  https://www.evang-kreuzlingen.ch/veranstaltung/20216
SUMMARY:Kleiderbörse im Open Place
PRIORITY:5
X-MICROSOFT-CDO-IMPORTANCE:1
CLASS:PUBLIC
END:VEVENT
END:VCALENDAR
